Workbook

Sheet P&L market units
B1: Cataract operations CZ (units) | E1: 160000 | G1: 163000 | I1: 165000 | K1: 166000 | M1: 167000 | O1: 168000
B2: CZ expected sales (units) | E2: 0 | G2: ='Sales-ASP est'!F4 -> 6000 | I2: ='Sales-ASP est'!L4 -> 10500 | K2: ='Sales-ASP est'!R4 -> 14000 | M2: ='Sales-ASP est'!X4 -> 16500 | O2: ='Sales-ASP est'!AD4 -> 22000
B3: SK expected sales (units) | C3: 0.1 | D3: of CZ | E3: 0 | G3: ='Sales-ASP est'!F14 -> 0 | I3: ='Sales-ASP est'!L14 -> 1050 | K3: ='Sales-ASP est'!R14 -> 1400 | M3: ='Sales-ASP est'!X14 -> 1650 | O3: ='Sales-ASP est'!AD14 -> 2200
B4: Total expected sales (units) | E4: =SUM(E2:E3) -> 0 | G4: =SUM(G2:G3) -> 6000 | I4: =SUM(I2:I3) -> 11550 | K4: =SUM(K2:K3) -> 15400 | M4: =SUM(M2:M3) -> 18150 | O4: =SUM(O2:O3) -> 24200
B5: CZ IOL ASP (EUR) | E5: 0 | G5: ='Sales-ASP est'!I11 -> 96.75 | I5: ='Sales-ASP est'!O11 -> 110.4345 | K5: ='Sales-ASP est'!U11 -> 120.42979 | M5: ='Sales-ASP est'!AA11 -> 124.87748 | O5: ='Sales-ASP est'!AG11 -> 126.65458
B6: Market share CZ | E6: =E2/E1 -> 0 | G6: =G2/G1 -> 0.036809816 | I6: =I2/I1 -> 0.063636364 | K6: =K2/K1 -> 0.084337349 | M6: =M2/M1 -> 0.098802395 | O6: =O2/O1 -> 0.13095238
B7: SK IOL ASP (EUR) | E7: 0 | G7: 0 | I7: ='Sales-ASP est'!O21 -> 124.344 | K7: ='Sales-ASP est'!U21 -> 135.54783 | M7: ='Sales-ASP est'!AA21 -> 140.69335 | O7: ='Sales-ASP est'!AG21 -> 142.93669
B9: Financial Plan
B11: All figures in TEUR | E11: FY | G11: FY | H11: Change | I11: FY | J11: Change | K11: FY | L11: Change | M11: FY | N11: Change | O11: FY | P11: Change
C12: CZK | D12: EUR | E12: 2025 | G12: 2026 | H12: vs prior FY | I12: 2027 | J12: vs prior FY | K12: 2028 | L12: vs prior FY | M12: 2029 | N12: vs prior FY | O12: 2030 | P12: vs prior FY
B13: Net sales | E13: =E2*E5/1000 -> 0 | G13: =G4*G5/1000 -> 580.5 | H13: n/a | I13: =(I2*I5/1000)+(I3*I7/1000) -> 1290.1235 | J13: =I13/G13-1 -> 1.2224349 | K13: =(K2*K5/1000)+(K3*K7/1000) -> 1875.784 | L13: =K13/I13-1 -> 0.45395697 | M13: =(M2*M5/1000)+(M3*M7/1000) -> 2292.6225 | N13: =M13/K13-1 -> 0.22222094 | O13: =(O2*O5/1000)+(O3*O7/1000) -> 3100.8616 | P13: =O13/M13-1 -> 0.35253911
H14: 0 | J14: 0 | L14: 0 | N14: 0 | P14: 0
B16: Cost of Sales | G16: =ROUND(G13*60%,0) -> 348 | H16: n/a | I16: =ROUND(I13*60%,0) -> 774 | J16: =I16/G16-1 -> 1.2241379 | K16: =ROUND(K13*60%,0) -> 1125 | L16: =K16/I16-1 -> 0.45348837 | M16: =ROUND(M13*60%,0) -> 1376 | N16: =M16/K16-1 -> 0.22311111 | O16: =ROUND(O13*60%,0) -> 1861 | P16: =O16/M16-1 -> 0.35247093
C17: Fixed Cost
C18: Other
B20: Gross Profit | E20: =E13-E16 -> 0 | G20: =G13-G16 -> 232.5 | H20: n/a | I20: =I13-I16 -> 516.12345 | J20: =I20/G20-1 -> 1.2198858 | K20: =K13-K16 -> 750.78399 | L20: =K20/I20-1 -> 0.45465971 | M20: =M13-M16 -> 916.62248 | N20: =M20/K20-1 -> 0.22088709 | O20: =O13-O16 -> 1239.8616 | P20: =O20/M20-1 -> 0.35264145
B21: (%) | F21: － | G21: =G20/G13 -> 0.4005168 | H21: － | I21: =I20/I13 -> 0.40005741 | J21: － | K21: =K20/K13 -> 0.40025077 | L21: － | M21: =M20/M13 -> 0.39981396 | N21: － | O21: =O20/O13 -> 0.39984422 | P21: －
B22: SG&A | E22: =+E57 -> 10 | G22: =+G57 -> 320.2991 | H22: =G22/E22-1 -> 31.02991 | I22: =+I57 -> 482.33602 | J22: =I22/G22-1 -> 0.50589253 | K22: =+K57 -> 558.42112 | L22: =K22/I22-1 -> 0.15774293 | M22: =+M57 -> 583.06736 | N22: =M22/K22-1 -> 0.044135576 | O22: =+O57 -> 610.46961 | P22: =O22/M22-1 -> 0.046996723
B23: Operating Profit CZ | E23: =E20-E22 -> -10 | G23: =G20-G22 -> -87.7991 | H23: =(G23-(E23))/ABS(E23) -> -7.77991 | I23: =I20-I22 -> 33.787426 | J23: =(I23-G23)/G23 -> -1.3848266 | K23: =K20-K22 -> 192.36287 | L23: =(K23-I23)/I23 -> 4.693327 | M23: =M20-M22 -> 333.55512 | N23: =(M23-K23)/K23 -> 0.73398913 | O23: =O20-O22 -> 629.39194 | P23: =(O23-M23)/M23 -> 0.88692035
B24: (%) | G24: =G23/G13 -> -0.15124737 | H24: － | I24: =I23/I13 -> 0.026189297 | J24: － | K24: =K23/K13 -> 0.10255065 | L24: － | M24: =M23/M13 -> 0.14549064 | N24: － | O24: =O23/O13 -> 0.20297325 | P24: －
B25: Operating Profit CZ+SK | E25: =E23 -> -10 | G25: =G20-G69 -> -90.1211 | I25: =I20-I69 -> 7.6895623 | J25: =(I25-G25)/G25 -> -1.0853248 | K25: =K20-K69 -> 97.942594 | L25: =(K25-I25)/I25 -> 11.737083 | M25: =M20-M69 -> 238.09276 | N25: =(M25-K25)/K25 -> 1.430942 | O25: =O20-O69 -> 534.54063 | P25: =(O25-M25)/M25 -> 1.245094
B26: (%) | G26: =G25/G13 -> -0.15524737 | H26: － | I26: =I25/I13 -> 0.0059603306 | J26: － | K26: =K25/K13 -> 0.052214218 | L26: － | M26: =M25/M13 -> 0.10385171 | N26: － | O26: =O25/O13 -> 0.17238455 | P26: －
B27: Ordinary Profit | E27: =E23-50 -> -60 | G27: =G23-50 -> -137.7991 | H27: =G27/E27-1 -> 1.2966517 | I27: =I23-50 -> -16.212574 | J27: =I27/G27-1 -> -0.8823463 | K27: =K23-50 -> 142.36287 | L27: =K27/I27-1 -> -9.7810158 | M27: =M23-50 -> 283.55512 | N27: =M27/K27-1 -> 0.99177726 | O27: =O23-50 -> 579.39194 | P27: =O27/M27-1 -> 1.0433133
B28: (%) | G28: =+G27/G13 -> -0.23738002 | H28: － | I28: =+I27/I13 -> -0.012566684 | J28: － | K28: =+K27/K13 -> 0.075895128 | L28: － | M28: =+M27/M13 -> 0.12368156 | N28: － | O28: =+O27/O13 -> 0.1868487 | P28: －
B29: Income Before Income tax | E29: =E27 -> -60 | G29: =G27 -> -137.7991 | H29: =G29/E29-100% -> 1.2966517 | I29: =I27 -> -16.212574 | J29: =I29/G29-100% -> -0.8823463 | K29: =K27 -> 142.36287 | L29: =K29/I29-100% -> -9.7810158 | M29: =M27 -> 283.55512 | N29: =M29/K29-100% -> 0.99177726 | O29: =O27 -> 579.39194 | P29: =O29/M29-100% -> 1.0433133
B30: Corporate Tax | E30: =ROUND(E29*0.24,0) -> -14 | G30: =ROUND(G29*0.24,0) -> -33 | I30: =ROUND(I29*0.24,0) -> -4 | K30: =ROUND(K29*0.24,0) -> 34 | M30: =ROUND(M29*0.24,0) -> 68 | O30: =ROUND(O29*0.24,0) -> 139
B31: Net Income | E31: =E29-E30 -> -46 | G31: =G29-G30 -> -104.7991 | H31: =G31/E31-1 -> 1.2782413 | I31: =I29-I30 -> -12.212574 | J31: =I31/G31-1 -> -0.88346681 | K31: =K29-K30 -> 108.36287 | L31: =K31/I31-1 -> -9.8730573 | M31: =M29-M30 -> 215.55512 | N31: =M31/K31-1 -> 0.98919729 | O31: =O29-O30 -> 440.39194 | P31: =O31/M31-1 -> 1.0430595
B32: (%) | G32: =G31/G13 -> -0.18053247 | I32: =I31/I13 -> -0.0094662054 | J32: － | K32: =K31/K13 -> 0.057769373 | L32: － | M32: =M31/M13 -> 0.094021201 | N32: － | O32: =O31/O13 -> 0.14202245 | P32: －
B34: inflation rate | D34: EUR/CZK | G34: 0.02 | I34: 0.02 | K34: 0.02 | M34: 0.02 | O34: 0.02
B35: SG&A in TCZK | C35: Monthly | D35: 25 | E35: =E11 -> FY | G35: =G11 -> FY | I35: =I11 -> FY | K35: =K11 -> FY | M35: =M11 -> FY | O35: =O11 -> FY
B36: Sales Representative (AR) | C36: 70 | D36: =C36/$D$35 -> 2.8 | G36: =ROUND(D36*1.34*12,0)*0.5 -> 22.5 | I36: =ROUND(D36*(1+I34)*1.34*12,0) -> 46 | K36: =ROUND(I36*(1+K34),0) -> 47 | M36: =ROUND(K36*(1+M34),0) -> 48 | O36: =ROUND(M36*(1+O34),0) -> 49
B37: Sales Representative (JC) | C37: 70 | D37: =C37/$D$35 -> 2.8 | G37: =ROUND(D37*1.34*12,0)*0.5 -> 22.5 | I37: =ROUND(D37*(1+I34)*1.34*12,0) -> 46 | K37: =ROUND(I37*(1+K34),0) -> 47 | M37: =ROUND(K37*(1+M34),0) -> 48 | O37: =ROUND(M37*(1+O34),0) -> 49
B38: CAS | C38: 70 | D38: =C38/$D$35 -> 2.8 | G38: =ROUND(D38*1.34*9,0) -> 34 | H38: 9 months | I38: =ROUND(D38*1.34*12,0) -> 45 | K38: =ROUND(D38*1.34*12,0) -> 45 | M38: =ROUND(K38*(1+M34),0) -> 46 | O38: =ROUND(M38*(1+O34),0) -> 47
B39: Bulletin | C39: 50 | D39: =C39/$D$35 -> 2 | G39: =(ROUND(D39*1.34*12,0))*0 -> 0 | I39: =ROUND(D39*(1+I34)*1.34*12,0) -> 33 | K39: =ROUND(I39*(1+K34),0) -> 34 | M39: =ROUND(K39*(1+M34),0) -> 35 | O39: =ROUND(M39*(1+O34),0) -> 36
B40: Lease for other( 1car * 18 TCZK ) Project Mgr | C40: 18 | D40: =C40/$D$35 -> 0.72 | G40: =D40*12 -> 8.64 | I40: =G40 -> 8.64 | K40: =I40 -> 8.64 | M40: =K40 -> 8.64 | O40: =M40 -> 8.64
B41: Lease for other( 1car * 18 TCZK ) CAS | C41: 18 | D41: =C41/$D$35 -> 0.72 | G41: =D41*12 -> 8.64 | I41: =D41*12 -> 8.64 | K41: =I41 -> 8.64 | M41: =K41 -> 8.64 | O41: =M41 -> 8.64
B42: Lease for other( 1car * 18 TCZK ) CAS | C42: 18 | D42: =C42/$D$35 -> 0.72 | G42: =D42*9 -> 6.48 | H42: 9 months | I42: =D42*12 -> 8.64 | K42: =D42*12 -> 8.64 | M42: =D42*12 -> 8.64 | O42: =D42*12 -> 8.64
B43: CS representaitive | C43: 25 | D43: =C43/$D$35 -> 1 | G43: =ROUND(D43*1.34*10,0) -> 13 | H43: 10 months | I43: =ROUND(D43*(1+I34)*1.34*12,0) -> 16 | K43: =ROUND(I43*(1+K34),0) -> 16 | M43: =ROUND(K43*(1+M34),0) -> 16 | O43: =ROUND(M43*(1+O34),0) -> 16
B44: Marketing | C44: 70 | D44: =C44/$D$35 -> 2.8 | G44: =ROUND(D44*1.34*12,0)*0.5 -> 22.5 | I44: =ROUND(D44*(1+I34)*1.34*12,0) -> 46 | K44: =ROUND(I44*(1+K34),0) -> 47 | M44: =ROUND(K44*(1+M34),0) -> 48 | O44: =ROUND(M44*(1+O34),0) -> 49
B45: IT Specialist 10% | C45: 70 | D45: =C45/$D$35 -> 2.8 | E45: =ROUND(D45*1.34*0.1*3,0) -> 1 | F45: 3 months | G45: =ROUND(D45*1.34*0.1*12,0) -> 5 | I45: =ROUND(G45*(1+I34),0) -> 5 | K45: =ROUND(I45*(1+K34),0) -> 5 | M45: =ROUND(K45*(1+M34),0) -> 5 | O45: =ROUND(M45*(1+O34),0) -> 5
...

Sheet Sales-ASP est
C1: 25
E2: 2026 | K2: 2027 | Q2: 2028 | W2: 2029 | AC2: 2030
A3: Sales prices CZ (nasa marza 35%) | B3: Cena | C3: Cena | F3: Sales pcs | G3: Sales (CZK) | H3: ASP (CZK) | I3: ASP (EUR) | L3: Sales pcs | M3: Sales (CZK) | N3: ASP (CZK) | O3: ASP (EUR) | R3: Sales pcs | S3: Sales (CZK) | T3: ASP (CZK) | U3: ASP (EUR) | X3: Sales pcs | Y3: Sales (CZK) | Z3: ASP (CZK) | AA3: ASP (EUR) | AD3: Sales pcs | AE3: Sales (CZK) | AF3: ASP (CZK) | AG3: ASP (EUR)
B4: (EUR) | C4: (CZK) | E4: Share | F4: 6000 | K4: Share | L4: 10500 | Q4: Share | R4: 14000 | W4: Share | X4: 16500 | AC4: Share | AD4: 22000
A5: Monofocal 65e | B5: 65 | C5: =B5*$C$1 -> 1625 | E5: 0 | F5: =$F$4*E5 -> 0 | G5: =C5*F5 -> 0 | K5: 0 | L5: =$L$4*K5 -> 0 | M5: =C5*L5 -> 0 | Q5: 0 | R5: =$R$4*Q5 -> 0 | S5: =C5*R5 -> 0 | W5: 0 | X5: =$X$4*W5 -> 0 | Y5: =C5*X5 -> 0 | AC5: 0 | AD5: =$AD$4*AC5 -> 0 | AE5: =C5*AD5 -> 0
A6: Monofocal preloaded 70-80e | B6: 90 | C6: =B6*$C$1 -> 2250 | E6: 0.71 | F6: =$F$4*E6 -> 4260 | G6: =C6*F6 -> 9585000 | K6: 0.595 | L6: =$L$4*K6 -> 6247.5 | M6: =(C6*0.99)*L6 -> 13916306 | Q6: 0.5 | R6: =$R$4*Q6 -> 7000 | S6: =((C6*0.99)*0.99)*R6 -> 15436575 | W6: 0.43 | X6: =$X$4*W6 -> 7095 | Y6: =(((C6*0.99)*0.99)*0.99)*X6 -> 15489611 | AC6: 0.375 | AD6: =$AD$4*AC6 -> 8250 | AE6: =((((C6*0.99)*0.99)*0.99)*0.99)*AD6 -> 17831063
A7: Monofocal Toric 200 | B7: 165 | C7: =B7*$C$1 -> 4125 | D7: 3-4 | E7: 0.04 | F7: =$F$4*E7 -> 240 | G7: =C7*F7 -> 990000 | K7: 0.04 | L7: =$L$4*K7 -> 420 | M7: =(C7*0.99)*L7 -> 1715175 | Q7: 0.045 | R7: =$R$4*Q7 -> 630 | S7: =((C7*0.99)*0.99)*R7 -> 2547034.9 | W7: 0.05 | X7: =$X$4*W7 -> 825 | Y7: =(((C7*0.99)*0.99)*0.99)*X7 -> 3302048.8 | AC7: 0.06 | AD7: =$AD$4*AC7 -> 1320 | AE7: =((((C7*0.99)*0.99)*0.99)*0.99)*AD7 -> 5230445.3
A8: Monofocal enhanced 80-105e | B8: 105 | C8: =B8*$C$1 -> 2625 | D8: 25 | E8: 0.25 | F8: =$F$4*E8 -> 1500 | G8: =C8*F8 -> 3937500 | K8: 0.33 | L8: =$L$4*K8 -> 3465 | M8: =(C8*0.99)*L8 -> 9004668.8 | Q8: 0.39 | R8: =$R$4*Q8 -> 5460 | S8: =((C8*0.99)*0.99)*R8 -> 14047283 | W8: 0.45 | X8: =$X$4*W8 -> 7425 | Y8: =(((C8*0.99)*0.99)*0.99)*X8 -> 18911734 | AC8: 0.49 | AD8: =$AD$4*AC8 -> 10780 | AE8: =((((C8*0.99)*0.99)*0.99)*0.99)*AD8 -> 27182466
A9: Trifocal 500 | B9: 450 | C9: =B9*$C$1 -> 11250 | E9: 0 | F9: =$F$4*E9 -> 0 | G9: =C9*F9 -> 0 | K9: 0.025 | L9: =$L$4*K9 -> 262.5 | M9: =(C9*0.99)*L9 -> 2923593.8 | Q9: 0.035 | R9: =$R$4*Q9 -> 490 | S9: =((C9*0.99)*0.99)*R9 -> 5402801.3 | W9: 0.04 | X9: =$X$4*W9 -> 660 | Y9: =(((C9*0.99)*0.99)*0.99)*X9 -> 7204470.1 | AC9: 0.045 | AD9: =$AD$4*AC9 -> 990 | AE9: =((((C9*0.99)*0.99)*0.99)*0.99)*AD9 -> 10698638
A10: Trifocal Toric 650e | B10: 550 | C10: =B10*$C$1 -> 13750 | E10: 0 | F10: =$F$4*E10 -> 0 | G10: =C10*F10 -> 0 | K10: 0.01 | L10: =$L$4*K10 -> 105 | M10: =(C10*0.99)*L10 -> 1429312.5 | Q10: 0.025 | R10: =$R$4*Q10 -> 350 | S10: =((C10*0.99)*0.99)*R10 -> 4716731.2 | W10: 0.03 | X10: =$X$4*W10 -> 495 | Y10: =(((C10*0.99)*0.99)*0.99)*X10 -> 6604097.6 | AC10: 0.03 | AD10: =$AD$4*AC10 -> 660 | AE10: =((((C10*0.99)*0.99)*0.99)*0.99)*AD10 -> 8717408.8
E11: =SUM(E5:E10) -> 1 | G11: =SUM(G5:G10) -> 14512500 | H11: =G11/F4 -> 2418.75 | I11: =H11/C1 -> 96.75 | K11: =SUM(K5:K10) -> 1 | M11: =SUM(M5:M10) -> 28989056 | N11: =M11/L4 -> 2760.8625 | O11: =N11/$C$1 -> 110.4345 | Q11: =SUM(Q5:Q10) -> 0.995 | S11: =SUM(S5:S10) -> 42150426 | T11: =S11/R4 -> 3010.7447 | U11: =T11/$C$1 -> 120.42979 | W11: =SUM(W5:W10) -> 1 | Y11: =SUM(Y5:Y10) -> 51511961 | Z11: =Y11/X4 -> 3121.937 | AA11: =Z11/$C$1 -> 124.87748 | AC11: =SUM(AC5:AC10) -> 1 | AE11: =SUM(AE5:AE10) -> 69660021 | AF11: =AE11/AD4 -> 3166.3646 | AG11: =AF11/$C$1 -> 126.65458
D13: of CZ sales
A14: Predajne ceny SK (nasa marza 35%) + pristroj bundling | D14: 0.1 | E14: Share | F14: 0 | K14: Share | L14: =L4*D14 -> 1050 | Q14: Share | R14: =R4*D14 -> 1400 | W14: Share | X14: =X4*D14 -> 1650 | AC14: Share | AD14: =AD4*D14 -> 2200
A15: Monofocal 95e | B15: 95 | C15: =B15*$C$1 -> 2375 | E15: 0 | F15: =$F$14*E15 -> 0 | G15: =C15*F15 -> 0 | K15: 0 | L15: =$L$14*K15 -> 0 | M15: =C15*L15 -> 0 | Q15: 0 | R15: =$R$14*Q15 -> 0 | S15: =C15*R15 -> 0 | W15: 0 | X15: =$X$14*W15 -> 0 | Y15: =C15*X15 -> 0 | AC15: 0 | AD15: =$AD$14*AC15 -> 0 | AE15: =C15*AD15 -> 0
A16: Monofocal preloaded 110e | B16: 100 | C16: =B16*$C$1 -> 2500 | E16: 0 | F16: =$F$14*E16 -> 0 | G16: =C16*F16 -> 0 | K16: 0.595 | L16: =$L$14*K16 -> 624.75 | M16: =(C16*0.99)*L16 -> 1546256.2 | Q16: 0.5 | R16: =$R$14*Q16 -> 700 | S16: =((C16*0.99)*0.99)*R16 -> 1715175 | W16: 0.43 | X16: =$X$14*W16 -> 709.5 | Y16: =(((C16*0.99)*0.99)*0.99)*X16 -> 1721067.9 | AC16: 0.375 | AD16: =$AD$14*AC16 -> 825 | AE16: =((((C16*0.99)*0.99)*0.99)*0.99)*AD16 -> 1981229.3
A17: Monofocal Toric 250 | B17: 200 | C17: =B17*$C$1 -> 5000 | E17: 0 | F17: =$F$14*E17 -> 0 | G17: =C17*F17 -> 0 | K17: 0.04 | L17: =$L$14*K17 -> 42 | M17: =(C17*0.99)*L17 -> 207900 | Q17: 0.045 | R17: =$R$14*Q17 -> 63 | S17: =((C17*0.99)*0.99)*R17 -> 308731.5 | W17: 0.05 | X17: =$X$14*W17 -> 82.5 | Y17: =(((C17*0.99)*0.99)*0.99)*X17 -> 400248.34 | AC17: 0.06 | AD17: =$AD$14*AC17 -> 132 | AE17: =((((C17*0.99)*0.99)*0.99)*0.99)*AD17 -> 633993.37
A18: Monofocal enhanced 120e | B18: 120 | C18: =B18*$C$1 -> 3000 | E18: 0 | F18: =$F$14*E18 -> 0 | G18: =C18*F18 -> 0 | K18: 0.33 | L18: =$L$14*K18 -> 346.5 | M18: =(C18*0.99)*L18 -> 1029105 | Q18: 0.39 | R18: =$R$14*Q18 -> 546 | S18: =((C18*0.99)*0.99)*R18 -> 1605403.8 | W18: 0.45 | X18: =$X$14*W18 -> 742.5 | Y18: =(((C18*0.99)*0.99)*0.99)*X18 -> 2161341 | AC18: 0.49 | AD18: =$AD$14*AC18 -> 1078 | AE18: =((((C18*0.99)*0.99)*0.99)*0.99)*AD18 -> 3106567.5
A19: Trifocal 600 | B19: 500 | C19: =B19*$C$1 -> 12500 | E19: 0 | F19: =$F$14*E19 -> 0 | G19: =C19*F19 -> 0 | K19: 0.025 | L19: =$L$14*K19 -> 26.25 | M19: =(C19*0.99)*L19 -> 324843.75 | Q19: 0.035 | R19: =$R$14*Q19 -> 49 | S19: =((C19*0.99)*0.99)*R19 -> 600311.25 | W19: 0.04 | X19: =$X$14*W19 -> 66 | Y19: =(((C19*0.99)*0.99)*0.99)*X19 -> 800496.67 | AC19: 0.045 | AD19: =$AD$14*AC19 -> 99 | AE19: =((((C19*0.99)*0.99)*0.99)*0.99)*AD19 -> 1188737.6
A20: Trifocal Toric 750e | B20: 600 | C20: =B20*$C$1 -> 15000 | E20: 0 | F20: =$F$14*E20 -> 0 | G20: =C20*F20 -> 0 | K20: 0.01 | L20: =$L$14*K20 -> 10.5 | M20: =(C20*0.99)*L20 -> 155925 | Q20: 0.025 | R20: =$R$14*Q20 -> 35 | S20: =((C20*0.99)*0.99)*R20 -> 514552.5 | W20: 0.03 | X20: =$X$14*W20 -> 49.5 | Y20: =(((C20*0.99)*0.99)*0.99)*X20 -> 720447.01 | AC20: 0.03 | AD20: =$AD$14*AC20 -> 66 | AE20: =((((C20*0.99)*0.99)*0.99)*0.99)*AD20 -> 950990.05
E21: =SUM(E15:E20) -> 0 | G21: =SUM(G15:G20) -> 0 | H21: =G21/F14 -> #DIV/0! | I21: =H21/C10 -> #DIV/0! | K21: =SUM(K15:K20) -> 1 | M21: =SUM(M15:M20) -> 3264030 | N21: =M21/L14 -> 3108.6 | O21: =N21/$C$1 -> 124.344 | Q21: =SUM(Q15:Q20) -> 0.995 | S21: =SUM(S15:S20) -> 4744174 | T21: =S21/R14 -> 3388.6957 | U21: =T21/$C$1 -> 135.54783 | W21: =SUM(W15:W20) -> 1 | Y21: =SUM(Y15:Y20) -> 5803600.9 | Z21: =Y21/X14 -> 3517.3339 | AA21: =Z21/$C$1 -> 140.69335 | AC21: =SUM(AC15:AC20) -> 1 | AE21: =SUM(AE15:AE20) -> 7861517.7 | AF21: =AE21/AD14 -> 3573.4172 | AG21: =AF21/$C$1 -> 142.93669
A23: European avg is 80-90 EUR for mono preloaded | D23: CZ | E23: 65:35 trifocal:trifocal toric | H23: n/a | N23: =L10/(L9+L10) -> 0.28571429 | T23: =R10/(R9+R10) -> 0.41666667 | Z23: =X10/(X9+X10) -> 0.42857143 | AC23: trifocal mkt estimation for CZ is 6000 pcs in 2030
A24: For mono toric 150- 170 EUR | E24: toric total market presentation is 4% | W24: enhanced 60% max | AC24: trifocal HSO estimation 15% mkt share, challenging 20%
E25: toric pcs higher | AC25: Mkt share | AD25: =(AD9+AD10)/6000 -> 0.275
E26: enhanced up to 1000 pcs/year | AC26: 2030 | AD26: 1200 pcs in Trifocals together
M27: adjust the sales prices | AC27: 2027-2030 | AD27: Mono enhanced too optimistic - around 10 000 pcs
E28: Special prices for spec deals possible? | M28: prepare marketing slide
M29: add Slovakia? | AC29: 145000 in 2030
M30: half day of surgeon in OR and lunch is 1000 EUR
E31: how many sales goes to key accounts -20%, how many to the rest | M31: expenses from Hoya and Bulletin for marketing | AC31: Synergy
E32: price erosion 1% per year included | AC32: congresses (CSRKCH)
E33: CAPEX investments assumption include to the business case | AC33: experts, KOL network sharing
E34: Structure of the IOL team, headcount in the presentation | AC34: bundling deals spectacle lenses
E35: Unmet need - doctors look for instrumentation from lens companies not from instrumentation companies only | AC35: bundling deals instrumentation
AC36: market reputation
E39: Stock - basic stock - 300-500 pcs, and increase based on the contracts with hospitals
E40: Stock - replenishment - how often, possible deliveries from FR directly to hospitals?
E41: pls see Sheet Warehouse
E43: Good mono is about 40-60 EUR on the market; Better Mono starting from 50-55 going up to 90; Best Mono starting from 80 going up to 110; Best Mono+ around 110-130, one trick - J&J did mistake during Eyehance launch (in some countries) and exchange Tecnis with Eyehance and they need to sell for about 80

Sheet CAPEX
A1: CAPEX investments
A2: CZ | C2: EUR/CZK
A3: All figures in TEUR | C3: ='P&L market units'!D35 -> 25 | D3: FY | F3: FY | H3: FY | J3: FY | L3: FY | N3: FY
B4: Value | D4: 2025 | F4: 2026 | H4: 2027 | J4: 2028 | L4: 2029 | N4: 2030
A6: Notebook | B6: =30000 -> 30000 | C6: =B6/C3 -> 1200 | D6: 0 | F6: =ROUND(C6/36*12,0)/1000 -> 0.4 | H6: =ROUND(C6/36*12,0)/1000 -> 0.4 | J6: =ROUND(C6/36*12,0)/1000+ROUND(C6/36*6,0)/1000 -> 0.6 | L6: =ROUND(C6/36*12,0)/1000 -> 0.4 | N6: =ROUND(C6/36*12,0)/1000 -> 0.4
A7: iPad, iPhone | B7: =25000 -> 25000 | C7: =B7/C3 -> 1000 | D7: 0 | F7: =ROUND(C7/36*12,0)/1000 -> 0.333 | H7: =ROUND(C7/36*12,0)/1000 -> 0.333 | J7: =ROUND(C7/36*12,0)/1000+ROUND(C7/36*6,0)/1000 -> 0.5 | L7: =ROUND(C7/36*12,0)/1000 -> 0.333 | N7: =ROUND(C7/36*12,0)/1000 -> 0.333
A8: Diagnostic equipment | B8: =1250000 -> 1250000 | C8: =B8/C3 -> 50000 | F8: =ROUND(C8/36*12,0)/1000 -> 16.667 | H8: =ROUND(C8*2/36*12,0)/1000 -> 33.333 | J8: =ROUND(C8*2/36*12,0)/1000 -> 33.333 | L8: =ROUND(C8*2/36*12,0)/1000 -> 33.333 | N8: =ROUND(C8*2/36*12,0)/1000 -> 33.333
A10: Total depreciation | D10: =SUM(D6:D9) -> 0 | F10: =SUM(F6:F9) -> 17.4 | H10: =SUM(H6:H9) -> 34.066 | J10: =SUM(J6:J9) -> 34.433 | L10: =SUM(L6:L9) -> 34.066 | N10: =SUM(N6:N9) -> 34.066
A13: SK | C13: EUR/CZK
A14: All figures in TEUR | C14: =C3 -> 25 | D14: FY | F14: FY | H14: FY | J14: FY | L14: FY | N14: FY
B15: Value | D15: 2025 | F15: 2026 | H15: 2027 | J15: 2028 | L15: 2029 | N15: 2030
A17: Notebook | C17: =30000/C14 -> 1200 | H17: =ROUND(C17/36*2,0)/1000 -> 0.067 | J17: =ROUND(C17/36*2,0)/1000 -> 0.067 | L17: =ROUND(C17/36*2,0)/1000 -> 0.067
A18: iPad, iPhone | C18: =25000/C14 -> 1000 | H18: =ROUND(C18/36*12,0)/1000 -> 0.333
A19: Diagnostic equipment | C19: 25000 | H19: =ROUND(C19*2/36*12,0)/1000 -> 16.667 | J19: =ROUND(C19*2/36*12,0)/1000 -> 16.667 | L19: =ROUND(C19*2/36*12,0)/1000 -> 16.667 | N19: =ROUND(C19*2/36*12,0)/1000 -> 16.667
A21: Total depreciation | D21: =SUM(D17:D20) -> 0 | F21: =SUM(F17:F20) -> 0 | H21: =SUM(H17:H20) -> 17.067 | J21: =SUM(J17:J20) -> 16.734 | L21: =SUM(L17:L20) -> 16.734 | N21: =SUM(N17:N20) -> 16.667

Sheet Warehouse in Prague
A1: Amounts in TCZK | B1: Monthly | C1: 0.025 | D1: 0.025 | E1: 0.025 | F1: 0.025 | G1: 0.025
B2: 2025 | C2: 2026 | D2: 2027 | E2: 2028 | F2: 2029 | G2: 2030
A3: Rental costs of warehouse | B3: 15 | C3: =B3*(1+$C$1) -> 15.375 | D3: =C3*(1+$D$1) -> 15.759375 | E3: =D3*(1+$D$1) -> 16.153359 | F3: =E3*(1+$D$1) -> 16.557193 | G3: =F3*(1+$D$1) -> 16.971123
A4: Logistics worker 50% | B4: 0 | C4: =B4*(1+$C$1) -> 0 | D4: =C4*(1+$D$1) -> 0 | E4: =D4*(1+$D$1)*2 -> 0 | F4: =E4*(1+$D$1) -> 0 | G4: =F4*(1+$D$1) -> 0 | H4: gross 25 TCZK +34% contrib. | I4: from 2028 100%
A5: Depreciation of CAPEX | B5: 20 | C5: =B5*(1+$C$1) -> 20.5 | D5: =C5*(1+$D$1) -> 21.0125 | E5: =D5*(1+$D$1) -> 21.537812 | F5: =E5*(1+$D$1) -> 22.076258 | G5: =F5*(1+$D$1) -> 22.628164 | H5: depreciation of PC, printer, other equipment..
A6: IT expense | B6: 15 | C6: =B6*(1+$C$1) -> 15.375 | D6: =C6*(1+$D$1) -> 15.759375 | E6: =D6*(1+$D$1) -> 16.153359 | F6: =E6*(1+$D$1) -> 16.557193 | G6: =F6*(1+$D$1) -> 16.971123 | H6: IT connection/maintenance
B7: =SUM(B3:B6) -> 50 | C7: =SUM(C3:C6) -> 51.25 | D7: =SUM(D3:D6) -> 52.53125 | E7: =SUM(E3:E6) -> 53.844531 | F7: =SUM(F3:F6) -> 55.190645 | G7: =SUM(G3:G6) -> 56.570411
A9: rozloha skladu cca 100 m2?
A10: v "rental costs" již je prace skladnika, spotřeba vody, energie, vytápění, ostraha, úklid
A12: Odesilani balicku - 1 balicek stoji 250 Kc
B14: pcs | C14: CZK | D14: EUR
C15: 1700
A16: Hodnota pocatecniho skladu | B16: 300 | C16: =B16*1700 -> 510000 | D16: =C16/25 -> 20400
A18: Lze distribuce z Frankfurt do nemocnice?
A19: Lze doplnovani skladu z Frankfurtu na denni/tydenni bazi?
A20: Lze odlozena splatnost na pocatecni sklad?
A21: Fazovani skladu - pocatecni cca 300-500 ks na launch a pak doplnovat podle prichodu novych zakazniku

Sheet Graphs
B1: 2025 | C1: 2026 | D1: 2027 | E1: 2028 | F1: 2029 | G1: 2030
A2: Sales (Pcs) | B2: 0 | C2: ='P&L market units'!G4 -> 6000 | D2: ='P&L market units'!I4 -> 11550 | E2: ='P&L market units'!K4 -> 15400 | F2: ='P&L market units'!M4 -> 18150 | G2: ='P&L market units'!O4 -> 24200
A3: Sales (EUR) | B3: 0 | C3: ='P&L market units'!G13 -> 580.5 | D3: ='P&L market units'!I13 -> 1290.1235 | E3: ='P&L market units'!K13 -> 1875.784 | F3: ='P&L market units'!M13 -> 2292.6225 | G3: ='P&L market units'!O13 -> 3100.8616 | H3: =B3*1000 -> 0 | I3: =C3*1000 -> 580500 | J3: =D3*1000 -> 1290123.4 | K3: =E3*1000 -> 1875784 | L3: =F3*1000 -> 2292622.5 | M3: =G3*1000 -> 3100861.6
A4: SG&A | B4: ='P&L market units'!E69 -> 10 | C4: ='P&L market units'!G69 -> 322.6211 | D4: ='P&L market units'!I69 -> 508.43389 | E4: ='P&L market units'!K69 -> 652.84139 | F4: ='P&L market units'!M69 -> 678.52972 | G4: ='P&L market units'!O69 -> 705.32092
A5: OP | B5: ='P&L market units'!E25 -> -10 | C5: ='P&L market units'!G25 -> -90.1211 | D5: ='P&L market units'!I25 -> 7.6895623 | E5: ='P&L market units'!K25 -> 97.942594 | F5: ='P&L market units'!M25 -> 238.09276 | G5: ='P&L market units'!O25 -> 534.54063
A6: SG&A/Sales | B6: n/a | C6: =C4/C3 -> 0.55576417 | D6: =D4/D3 -> 0.39409708 | E6: =E4/E3 -> 0.34803655 | F6: =F4/F3 -> 0.29596225 | G6: =G4/G3 -> 0.22745966
A7: OP/Sales | B7: n/a | C7: =C5/C3 -> -0.15524737 | D7: =D5/D3 -> 0.0059603306 | E7: =E5/E3 -> 0.052214218 | F7: =F5/F3 -> 0.10385171 | G7: =G5/G3 -> 0.17238455
